BEGIN:VCALENDAR
VERSION:2.0
PRODID:-//Stanford School of Medicine at Stanford Research Park - ECPv6.15.20//NONSGML v1.0//EN
CALSCALE:GREGORIAN
METHOD:PUBLISH
X-WR-CALNAME:Stanford School of Medicine at Stanford Research Park
X-ORIGINAL-URL:https://srp.med.stanford.edu
X-WR-CALDESC:Events for Stanford School of Medicine at Stanford Research Park
REFRESH-INTERVAL;VALUE=DURATION:PT1H
X-Robots-Tag:noindex
X-PUBLISHED-TTL:PT1H
BEGIN:VTIMEZONE
TZID:America/Los_Angeles
BEGIN:DAYLIGHT
TZOFFSETFROM:-0800
TZOFFSETTO:-0700
TZNAME:PDT
DTSTART:20250309T100000
END:DAYLIGHT
BEGIN:STANDARD
TZOFFSETFROM:-0700
TZOFFSETTO:-0800
TZNAME:PST
DTSTART:20251102T090000
END:STANDARD
BEGIN:DAYLIGHT
TZOFFSETFROM:-0800
TZOFFSETTO:-0700
TZNAME:PDT
DTSTART:20260308T100000
END:DAYLIGHT
BEGIN:STANDARD
TZOFFSETFROM:-0700
TZOFFSETTO:-0800
TZNAME:PST
DTSTART:20261101T090000
END:STANDARD
BEGIN:DAYLIGHT
TZOFFSETFROM:-0800
TZOFFSETTO:-0700
TZNAME:PDT
DTSTART:20270314T100000
END:DAYLIGHT
BEGIN:STANDARD
TZOFFSETFROM:-0700
TZOFFSETTO:-0800
TZNAME:PST
DTSTART:20271107T090000
END:STANDARD
END:VTIMEZONE
BEGIN:VEVENT
DTSTART;TZID=America/Los_Angeles:20260505T120000
DTEND;TZID=America/Los_Angeles:20260505T130000
DTSTAMP:20260422T130831
CREATED:20260417T164407Z
LAST-MODIFIED:20260417T164407Z
UID:4014-1777982400-1777986000@srp.med.stanford.edu
SUMMARY:Vendor: Epigenetics Seminar
DESCRIPTION:Enabling Epigenetics Research Lunch & Learn Seminar\nTuesday\, May 5th\, 12pm-1pm\n1701 Page Mill Road Rm 209 \nStop Guessing\, Start Mapping: An Epigenetics Assay Playbook \nAbstract:\nActive Motif\, the leader in epigenetics tools and services\, brings you the expertise to confidently navigate the epigenetics landscape from start to finish. We begin with ATAC-seq—the foundational assay for exploring chromatin accessibility—then build into advanced methods such as ChIP-seq\, CUT&Tag\, CUT&RUN\, RIME\, TIP-ChIP and Multi-ChIP to precisely interrogate regulatory biology.\nYou’ll learn how to design an epigenetics strategy tailored to your research goals\, including how to align assay selection with your sample type\, scale\, and biological question. Whether you’re uncovering disease mechanisms or advancing therapeutic targets\, this seminar will equip you with a clear\, actionable framework for experimental success. \nPresented by: Sarah Traynor (Senior Scientist\, Active Motif R&D) \nRegistration required — use the link or QR code below: \n \nQuestions: Please contact Nivanka Paranavitana (Active Motif Business Development)\nEmail: nparanavitana@activemotif.com / Cell: 650-229-9237
URL:https://srp.med.stanford.edu/event/vendor-epigenetics-seminar/
LOCATION:1701 Page Mill Road\, 1701 Page Mill Road\, Palo Alto\, CA\, 94304\, United States
CATEGORIES:In Person
END:VEVENT
BEGIN:VEVENT
DTSTART;TZID=America/Los_Angeles:20260505T120000
DTEND;TZID=America/Los_Angeles:20260505T130000
DTSTAMP:20260422T130831
CREATED:20260422T163549Z
LAST-MODIFIED:20260422T163549Z
UID:4023-1777982400-1777986000@srp.med.stanford.edu
SUMMARY:Vendor: Active Motif Lunch & Learn Seminar
DESCRIPTION:Enabling Epigenetics Research Lunch & Learn Seminar\nTuesday\, May 5\, 2026\, 12PM – 1PM\n1701 Page Mill Road Rm 209 \nStop Guessing\, Start Mapping: An Epigenetics Assay Playbook \nAbstract:\nActive Motif brings you the expertise to confidently navigate the epigenetics landscape from start to finish. We begin with ATAC-seq – the foundational assay for exploring chromatin accessibility – then build into advanced methods such as ChIP-seq\,  CUT&Tag\, CUT&RUN\, RIME\, TIP-ChIp and Multi-ChIp to precisely interrogate regulatory biology.\nYou’ll learn how to design an epigenetics strategy tailored to your research goals\, including how to align assay selection with your sample type\, scale\, and biological question. Whether you’re uncovering disease mechanisms or advancing therapeutic targets\, this seminar will equip you with a clear\, actionable framework for experimental success. \nRegistration required – (QR code provided in the picture) \nPresented by: Sarah Traynor ( Senior Scientist\, Active Motif R&D) \nQuestions: Please contact Nivanka Paranavitana (Active Motif Business Development) Email: nparanavitana@activemotif.com/ Cell: 650-229-9237
URL:https://srp.med.stanford.edu/event/vendor-active-motif-lunch-learn-seminar/
LOCATION:1701 Page Mill Road\, 1701 Page Mill Road\, Palo Alto\, CA\, 94304\, United States
CATEGORIES:In Person
ATTACH;FMTTYPE=image/png:https://srp.med.stanford.edu/wp-content/uploads/2026/04/Active-Motif-may-5.png
END:VEVENT
BEGIN:VEVENT
DTSTART;TZID=America/Los_Angeles:20260507T113000
DTEND;TZID=America/Los_Angeles:20260507T130000
DTSTAMP:20260422T130831
CREATED:20260420T210413Z
LAST-MODIFIED:20260420T210413Z
UID:4017-1778153400-1778158800@srp.med.stanford.edu
SUMMARY:Cytiva Office Hour
DESCRIPTION:You’re invited to: Cytiva Office Hour \nWhere: 3165 Porter Dr\, Palo Alto\, CA (Kitchen area/Lobby)\nWhen: May 7\, 2026\, 11:30am – 1:00pm \nBring your questions on: chromatography\, Western blotting\, protein interactions/kinetics\, cell culture\, molecular diagnostics or anything life science\, we’ll try to help! We’ll bring snacks and swags! \nCytiva Contact:\nNitish Agrawal\nnitish.agrawal@cytiva.com
URL:https://srp.med.stanford.edu/event/cytiva-office-hour-7/
LOCATION:Híišen Hall (3165 Porter Drive)
CATEGORIES:In Person
END:VEVENT
BEGIN:VEVENT
DTSTART;TZID=America/Los_Angeles:20260507T113000
DTEND;TZID=America/Los_Angeles:20260507T130000
DTSTAMP:20260422T130831
CREATED:20260422T164322Z
LAST-MODIFIED:20260422T164322Z
UID:4026-1778153400-1778158800@srp.med.stanford.edu
SUMMARY:Vendor: BMG LABTECH
DESCRIPTION:Office Hours/Meet n’ Greet with BMG LABTECH\nStop by to learn all about plate readers and assays \nFREE Snacks and Refreshments will be available\nHosted by: Devon Legge \nWhere & When?\nStanford Research Park\n‘Arweh Hall\, Lobby\n1701 Page Mill Rd\nThursday\, May 7th\, 2026\nTime: 11:30AM – 1:00PM \nJoin BMG LABTECH for a casual Lunch & Learn hosted by Devon Legge at Stanford. Students\, researchers\, professors are invited to stop by\, enjoy food and drinks\, and ask anything about microplate readers. From assay workflows and detection modes to choosing the right system for your lab\, we are here to help. \nTo sign up\, contact devon.legge@gmblabtech.com or call 415-238-9476.
URL:https://srp.med.stanford.edu/event/vendor-bmg-labtech/
LOCATION:BMG LABTECH
CATEGORIES:In Person
ATTACH;FMTTYPE=image/png:https://srp.med.stanford.edu/wp-content/uploads/2026/04/BMG-LABTECH-may-7.png
END:VEVENT
END:VCALENDAR